Package: SMITE Version: 1.30.0 Command: rm -rf SMITE.buildbin-libdir && mkdir SMITE.buildbin-libdir && /Users/biocbuild/BBS/utils/build-universal.sh SMITE_1.30.0.tar.gz /Library/Frameworks/R.framework/Resources/bin/R SMITE.buildbin-libdir StartedAt: 2024-03-04 01:05:42 -0500 (Mon, 04 Mar 2024) EndedAt: 2024-03-04 01:06:50 -0500 (Mon, 04 Mar 2024) EllapsedTime: 68.3 seconds RetCode: 0 Status: OK PackageFile: SMITE_1.30.0.tgz PackageFileSize: 3.58 MiB