Package: SMAD Version: 1.18.0 Command: chmod a+r SMAD -R && F:\biocbuild\bbs-3.18-bioc\R\bin\R.exe CMD build --keep-empty-dirs --no-resave-data SMAD StartedAt: 2024-04-15 21:16:11 -0400 (Mon, 15 Apr 2024) EndedAt: 2024-04-15 21:20:29 -0400 (Mon, 15 Apr 2024) EllapsedTime: 258.2 seconds RetCode: 0 Status: OK PackageFile: SMAD_1.18.0.tar.gz PackageFileSize: 377.1 KiB