Package: SIMLR Version: 1.28.0 Command: /Library/Frameworks/R.framework/Resources/bin/R CMD INSTALL SIMLR StartedAt: 2024-04-15 15:09:15 -0400 (Mon, 15 Apr 2024) EndedAt: 2024-04-15 15:10:23 -0400 (Mon, 15 Apr 2024) EllapsedTime: 67.4 seconds RetCode: 0 Status: OK