Package: SIMLR Version: 1.28.0 Command: /Library/Frameworks/R.framework/Resources/bin/R CMD check --install=check:SIMLR.install-out.txt --library=/Library/Frameworks/R.framework/Resources/library --no-vignettes --timings SIMLR_1.28.0.tar.gz StartedAt: 2024-04-16 09:00:23 -0400 (Tue, 16 Apr 2024) EndedAt: 2024-04-16 09:09:10 -0400 (Tue, 16 Apr 2024) EllapsedTime: 526.3 seconds RetCode: 0 Status: OK CheckDir: SIMLR.Rcheck Warnings: 0