Package: SIMLR Version: 1.28.0 Command: rm -rf SIMLR.buildbin-libdir && mkdir SIMLR.buildbin-libdir && /Users/biocbuild/BBS/utils/build-universal.sh SIMLR_1.28.0.tar.gz /Library/Frameworks/R.framework/Resources/bin/R SIMLR.buildbin-libdir StartedAt: 2024-03-04 01:05:17 -0500 (Mon, 04 Mar 2024) EndedAt: 2024-03-04 01:05:55 -0500 (Mon, 04 Mar 2024) EllapsedTime: 38.8 seconds RetCode: 0 Status: OK PackageFile: SIMLR_1.28.0.tgz PackageFileSize: 4.227 MiB