Package: SIMD Version: 1.20.0 Command: chmod a+r SIMD -R && F:\biocbuild\bbs-3.18-bioc\R\bin\R.exe CMD build --keep-empty-dirs --no-resave-data SIMD StartedAt: 2024-04-15 21:12:04 -0400 (Mon, 15 Apr 2024) EndedAt: 2024-04-15 21:12:20 -0400 (Mon, 15 Apr 2024) EllapsedTime: 16.4 seconds RetCode: 0 Status: OK PackageFile: SIMD_1.20.0.tar.gz PackageFileSize: 333 KiB