Package: SIMD Version: 1.20.0 Command: /Library/Frameworks/R.framework/Resources/bin/R CMD build --keep-empty-dirs --no-resave-data SIMD StartedAt: 2024-03-03 18:21:11 -0500 (Sun, 03 Mar 2024) EndedAt: 2024-03-03 18:21:23 -0500 (Sun, 03 Mar 2024) EllapsedTime: 12.3 seconds RetCode: 0 Status: OK PackageFile: SIMD_1.20.0.tar.gz PackageFileSize: 332.8 KiB