Package: SIMD Version: 1.20.0 Command: rm -rf SIMD.buildbin-libdir && mkdir SIMD.buildbin-libdir && /Users/biocbuild/BBS/utils/build-universal.sh SIMD_1.20.0.tar.gz /Library/Frameworks/R.framework/Resources/bin/R SIMD.buildbin-libdir StartedAt: 2024-03-04 01:05:13 -0500 (Mon, 04 Mar 2024) EndedAt: 2024-03-04 01:05:21 -0500 (Mon, 04 Mar 2024) EllapsedTime: 7.9 seconds RetCode: 0 Status: OK PackageFile: SIMD_1.20.0.tgz PackageFileSize: 376.4 KiB