Package: SIMD Version: 1.20.0 Command: /home/biocbuild/R/R-4.3.1/bin/R CMD check --install=check:SIMD.install-out.txt --library=/home/biocbuild/R/R-4.3.1/site-library --no-vignettes --timings SIMD_1.20.0.tar.gz StartedAt: 2023-11-02 14:24:44 -0000 (Thu, 02 Nov 2023) EndedAt: 2023-11-02 14:25:05 -0000 (Thu, 02 Nov 2023) EllapsedTime: 21.0 seconds RetCode: 0 Status: OK CheckDir: SIMD.Rcheck Warnings: 0