Package: SIMAT Version: 1.34.0 Command: /home/biocbuild/bbs-3.18-bioc/R/bin/R CMD check --install=check:SIMAT.install-out.txt --library=/home/biocbuild/bbs-3.18-bioc/R/site-library --timings SIMAT_1.34.0.tar.gz StartedAt: 2024-04-16 03:58:16 -0400 (Tue, 16 Apr 2024) EndedAt: 2024-04-16 03:59:27 -0400 (Tue, 16 Apr 2024) EllapsedTime: 70.5 seconds RetCode: 0 Status: OK CheckDir: SIMAT.Rcheck Warnings: 0