Package: SIMAT Version: 1.34.0 Command: /home/biocbuild/bbs-3.18-bioc/R/bin/R CMD build --keep-empty-dirs --no-resave-data SIMAT StartedAt: 2024-04-15 19:16:12 -0400 (Mon, 15 Apr 2024) EndedAt: 2024-04-15 19:16:28 -0400 (Mon, 15 Apr 2024) EllapsedTime: 16.6 seconds RetCode: 0 Status: OK PackageFile: SIMAT_1.34.0.tar.gz PackageFileSize: 1001 KiB