Package: SIMAT Version: 1.34.0 Command: /Library/Frameworks/R.framework/Resources/bin/R CMD INSTALL SIMAT StartedAt: 2024-04-15 15:28:14 -0400 (Mon, 15 Apr 2024) EndedAt: 2024-04-15 15:28:31 -0400 (Mon, 15 Apr 2024) EllapsedTime: 16.7 seconds RetCode: 0 Status: OK