Package: SIMAT Version: 1.34.0 Command: /Library/Frameworks/R.framework/Resources/bin/R CMD INSTALL SIMAT StartedAt: 2024-03-03 15:20:25 -0500 (Sun, 03 Mar 2024) EndedAt: 2024-03-03 15:20:36 -0500 (Sun, 03 Mar 2024) EllapsedTime: 11.2 seconds RetCode: 0 Status: OK