Package: SIMAT Version: 1.34.0 Command: /home/biocbuild/R/R-4.3.1/bin/R CMD INSTALL SIMAT StartedAt: 2023-11-01 20:23:20 -0000 (Wed, 01 Nov 2023) EndedAt: 2023-11-01 20:23:30 -0000 (Wed, 01 Nov 2023) EllapsedTime: 9.9 seconds RetCode: 0 Status: OK