Package: SIMAT Version: 1.34.0 Command: /home/biocbuild/R/R-4.3.1/bin/R CMD check --install=check:SIMAT.install-out.txt --library=/home/biocbuild/R/R-4.3.1/site-library --no-vignettes --timings SIMAT_1.34.0.tar.gz StartedAt: 2023-11-02 14:24:35 -0000 (Thu, 02 Nov 2023) EndedAt: 2023-11-02 14:25:48 -0000 (Thu, 02 Nov 2023) EllapsedTime: 73.1 seconds RetCode: 0 Status: OK CheckDir: SIMAT.Rcheck Warnings: 0