Package: SIMAT Version: 1.34.0 Command: /home/biocbuild/R/R-4.3.1/bin/R CMD build --keep-empty-dirs --no-resave-data SIMAT StartedAt: 2023-11-02 06:21:52 -0000 (Thu, 02 Nov 2023) EndedAt: 2023-11-02 06:22:12 -0000 (Thu, 02 Nov 2023) EllapsedTime: 20.0 seconds RetCode: 0 Status: OK PackageFile: SIMAT_1.34.0.tar.gz PackageFileSize: 1.033 MiB