Package: SIM Version: 1.72.0 Command: chmod a+r SIM -R && F:\biocbuild\bbs-3.18-bioc\R\bin\R.exe CMD build --keep-empty-dirs --no-resave-data SIM StartedAt: 2024-04-15 21:11:33 -0400 (Mon, 15 Apr 2024) EndedAt: 2024-04-15 21:12:27 -0400 (Mon, 15 Apr 2024) EllapsedTime: 53.7 seconds RetCode: 0 Status: OK PackageFile: SIM_1.72.0.tar.gz PackageFileSize: 323.9 KiB