Package: SIM Version: 1.72.0 Command: rm -rf SIM.buildbin-libdir && mkdir SIM.buildbin-libdir && F:\biocbuild\bbs-3.18-bioc\R\bin\R.exe CMD INSTALL --build --library=SIM.buildbin-libdir SIM_1.72.0.tar.gz StartedAt: 2024-04-16 07:42:00 -0400 (Tue, 16 Apr 2024) EndedAt: 2024-04-16 07:42:31 -0400 (Tue, 16 Apr 2024) EllapsedTime: 31.5 seconds RetCode: 0 Status: OK PackageFile: SIM_1.72.0.zip PackageFileSize: 486.1 KiB