Package: SGSeq Version: 1.36.0 Command: /home/biocbuild/bbs-3.18-bioc/R/bin/R CMD build --keep-empty-dirs --no-resave-data SGSeq StartedAt: 2024-04-15 19:14:23 -0400 (Mon, 15 Apr 2024) EndedAt: 2024-04-15 19:17:22 -0400 (Mon, 15 Apr 2024) EllapsedTime: 179.0 seconds RetCode: 0 Status: OK PackageFile: SGSeq_1.36.0.tar.gz PackageFileSize: 1.714 MiB