Package: SGSeq Version: 1.36.0 Command: /Library/Frameworks/R.framework/Resources/bin/R CMD INSTALL SGSeq StartedAt: 2024-04-15 15:45:03 -0400 (Mon, 15 Apr 2024) EndedAt: 2024-04-15 15:46:40 -0400 (Mon, 15 Apr 2024) EllapsedTime: 97.5 seconds RetCode: 0 Status: OK