Package: SGCP Version: 1.2.0 Command: /home/biocbuild/bbs-3.18-bioc/R/bin/R CMD check --install=check:SGCP.install-out.txt --library=/home/biocbuild/bbs-3.18-bioc/R/site-library --timings SGCP_1.2.0.tar.gz StartedAt: 2024-02-22 02:31:15 -0500 (Thu, 22 Feb 2024) EndedAt: 2024-02-22 02:36:41 -0500 (Thu, 22 Feb 2024) EllapsedTime: 326.0 seconds RetCode: 0 Status: OK CheckDir: SGCP.Rcheck Warnings: 0