Package: SGCP Version: 1.2.0 Command: /Library/Frameworks/R.framework/Resources/bin/R CMD INSTALL SGCP StartedAt: 2024-04-15 16:30:59 -0400 (Mon, 15 Apr 2024) EndedAt: 2024-04-15 16:32:45 -0400 (Mon, 15 Apr 2024) EllapsedTime: 105.6 seconds RetCode: 0 Status: OK