Package: SGCP Version: 1.2.0 Command: /Library/Frameworks/R.framework/Resources/bin/R CMD INSTALL SGCP StartedAt: 2024-03-03 15:41:04 -0500 (Sun, 03 Mar 2024) EndedAt: 2024-03-03 15:42:16 -0500 (Sun, 03 Mar 2024) EllapsedTime: 72.0 seconds RetCode: 0 Status: OK