Package: SGCP Version: 1.2.0 Command: rm -rf SGCP.buildbin-libdir && mkdir SGCP.buildbin-libdir && /Users/biocbuild/BBS/utils/build-universal.sh SGCP_1.2.0.tar.gz /Library/Frameworks/R.framework/Resources/bin/R SGCP.buildbin-libdir StartedAt: 2024-02-22 00:40:33 -0500 (Thu, 22 Feb 2024) EndedAt: 2024-02-22 00:41:46 -0500 (Thu, 22 Feb 2024) EllapsedTime: 73.0 seconds RetCode: 0 Status: OK PackageFile: SGCP_1.2.0.tgz PackageFileSize: 2.667 MiB