Package: SEtools Version: 1.16.0 Command: /Library/Frameworks/R.framework/Resources/bin/R CMD build --keep-empty-dirs --no-resave-data SEtools StartedAt: 2024-03-03 18:18:53 -0500 (Sun, 03 Mar 2024) EndedAt: 2024-03-03 18:20:00 -0500 (Sun, 03 Mar 2024) EllapsedTime: 66.5 seconds RetCode: 0 Status: OK PackageFile: SEtools_1.16.0.tar.gz PackageFileSize: 533.6 KiB