Package: SEtools Version: 1.16.0 Command: rm -rf SEtools.buildbin-libdir && mkdir SEtools.buildbin-libdir && /Users/biocbuild/BBS/utils/build-universal.sh SEtools_1.16.0.tar.gz /Library/Frameworks/R.framework/Resources/bin/R SEtools.buildbin-libdir StartedAt: 2024-03-04 01:04:30 -0500 (Mon, 04 Mar 2024) EndedAt: 2024-03-04 01:05:22 -0500 (Mon, 04 Mar 2024) EllapsedTime: 51.8 seconds RetCode: 0 Status: OK PackageFile: SEtools_1.16.0.tgz PackageFileSize: 370.9 KiB