Package: SEtools Version: 1.16.0 Command: /home/biocbuild/R/R-4.3.1/bin/R CMD build --keep-empty-dirs --no-resave-data SEtools StartedAt: 2023-11-02 06:09:19 -0000 (Thu, 02 Nov 2023) EndedAt: 2023-11-02 06:10:23 -0000 (Thu, 02 Nov 2023) EllapsedTime: 64.1 seconds RetCode: 0 Status: OK PackageFile: SEtools_1.16.0.tar.gz PackageFileSize: 552.9 KiB