Package: SELEX Version: 1.34.0 Command: chmod a+r SELEX -R && F:\biocbuild\bbs-3.18-bioc\R\bin\R.exe CMD build --keep-empty-dirs --no-resave-data SELEX StartedAt: 2024-04-15 21:05:36 -0400 (Mon, 15 Apr 2024) EndedAt: 2024-04-15 21:06:11 -0400 (Mon, 15 Apr 2024) EllapsedTime: 34.8 seconds RetCode: 0 Status: OK PackageFile: SELEX_1.34.0.tar.gz PackageFileSize: 4.109 MiB