Package: SELEX Version: 1.34.0 Command: /home/biocbuild/bbs-3.18-bioc/R/bin/R CMD build --keep-empty-dirs --no-resave-data SELEX StartedAt: 2024-04-15 19:11:37 -0400 (Mon, 15 Apr 2024) EndedAt: 2024-04-15 19:11:59 -0400 (Mon, 15 Apr 2024) EllapsedTime: 22.6 seconds RetCode: 0 Status: OK PackageFile: SELEX_1.34.0.tar.gz PackageFileSize: 3.931 MiB