Package: SCnorm Version: 1.24.0 Command: /home/biocbuild/R/R-4.3.1/bin/R CMD INSTALL SCnorm StartedAt: 2023-11-01 20:44:40 -0000 (Wed, 01 Nov 2023) EndedAt: 2023-11-01 20:45:16 -0000 (Wed, 01 Nov 2023) EllapsedTime: 36.3 seconds RetCode: 0 Status: OK