Package: SCnorm Version: 1.24.0 Command: /home/biocbuild/R/R-4.3.1/bin/R CMD build --keep-empty-dirs --no-resave-data SCnorm StartedAt: 2023-11-02 05:48:32 -0000 (Thu, 02 Nov 2023) EndedAt: 2023-11-02 05:51:07 -0000 (Thu, 02 Nov 2023) EllapsedTime: 154.2 seconds RetCode: 0 Status: OK PackageFile: SCnorm_1.24.0.tar.gz PackageFileSize: 2.949 MiB