Package: SCFA Version: 1.12.0 Command: /home/biocbuild/R/R-4.3.1/bin/R CMD build --keep-empty-dirs --no-resave-data SCFA StartedAt: 2023-11-02 05:45:30 -0000 (Thu, 02 Nov 2023) EndedAt: 2023-11-02 05:49:39 -0000 (Thu, 02 Nov 2023) EllapsedTime: 249.3 seconds RetCode: 0 Status: OK PackageFile: SCFA_1.12.0.tar.gz PackageFileSize: 1.264 MiB