Package: SCArray.sat Version: 1.2.1 Command: /Library/Frameworks/R.framework/Resources/bin/R CMD INSTALL SCArray.sat StartedAt: 2024-03-03 15:39:41 -0500 (Sun, 03 Mar 2024) EndedAt: 2024-03-03 15:40:41 -0500 (Sun, 03 Mar 2024) EllapsedTime: 59.5 seconds RetCode: 0 Status: OK