Package: SCArray.sat Version: 1.2.0 Command: /home/biocbuild/R/R-4.3.1/bin/R CMD check --install=check:SCArray.sat.install-out.txt --library=/home/biocbuild/R/R-4.3.1/site-library --no-vignettes --timings SCArray.sat_1.2.0.tar.gz StartedAt: 2023-11-02 14:04:44 -0000 (Thu, 02 Nov 2023) EndedAt: 2023-11-02 14:11:10 -0000 (Thu, 02 Nov 2023) EllapsedTime: 386.7 seconds RetCode: 0 Status: OK CheckDir: SCArray.sat.Rcheck Warnings: 0