Package: SCArray.sat Version: 1.2.0 Command: /home/biocbuild/R/R-4.3.1/bin/R CMD build --keep-empty-dirs --no-resave-data SCArray.sat StartedAt: 2023-11-02 05:42:50 -0000 (Thu, 02 Nov 2023) EndedAt: 2023-11-02 05:44:42 -0000 (Thu, 02 Nov 2023) EllapsedTime: 112.2 seconds RetCode: 0 Status: OK PackageFile: SCArray.sat_1.2.0.tar.gz PackageFileSize: 716.5 KiB