Package: SCANVIS Version: 1.16.0 Command: rm -rf SCANVIS.buildbin-libdir && mkdir SCANVIS.buildbin-libdir && /Users/biocbuild/BBS/utils/build-universal.sh SCANVIS_1.16.0.tar.gz /Library/Frameworks/R.framework/Resources/bin/R SCANVIS.buildbin-libdir StartedAt: 2024-03-04 01:02:30 -0500 (Mon, 04 Mar 2024) EndedAt: 2024-03-04 01:03:16 -0500 (Mon, 04 Mar 2024) EllapsedTime: 45.4 seconds RetCode: 0 Status: OK PackageFile: SCANVIS_1.16.0.tgz PackageFileSize: 429.6 KiB