Package: SCAN.UPC Version: 2.44.0 Command: rm -rf SCAN.UPC.buildbin-libdir && mkdir SCAN.UPC.buildbin-libdir && F:\biocbuild\bbs-3.18-bioc\R\bin\R.exe CMD INSTALL --build --library=SCAN.UPC.buildbin-libdir SCAN.UPC_2.44.0.tar.gz StartedAt: 2024-04-16 07:37:36 -0400 (Tue, 16 Apr 2024) EndedAt: 2024-04-16 07:38:22 -0400 (Tue, 16 Apr 2024) EllapsedTime: 46.1 seconds RetCode: 0 Status: OK PackageFile: SCAN.UPC_2.44.0.zip PackageFileSize: 424.1 KiB