Package: SCAN.UPC Version: 2.44.0 Command: /home/biocbuild/bbs-3.18-bioc/R/bin/R CMD check --install=check:SCAN.UPC.install-out.txt --library=/home/biocbuild/bbs-3.18-bioc/R/site-library --timings SCAN.UPC_2.44.0.tar.gz StartedAt: 2024-04-16 03:25:05 -0400 (Tue, 16 Apr 2024) EndedAt: 2024-04-16 03:29:04 -0400 (Tue, 16 Apr 2024) EllapsedTime: 239.6 seconds RetCode: 0 Status: OK CheckDir: SCAN.UPC.Rcheck Warnings: 0