Package: SBMLR Version: 1.98.0 Command: rm -rf SBMLR.buildbin-libdir && mkdir SBMLR.buildbin-libdir && F:\biocbuild\bbs-3.18-bioc\R\bin\R.exe CMD INSTALL --build --library=SBMLR.buildbin-libdir SBMLR_1.98.0.tar.gz StartedAt: 2024-04-16 07:37:27 -0400 (Tue, 16 Apr 2024) EndedAt: 2024-04-16 07:37:36 -0400 (Tue, 16 Apr 2024) EllapsedTime: 9.2 seconds RetCode: 0 Status: OK PackageFile: SBMLR_1.98.0.zip PackageFileSize: 230.6 KiB