Package: SBMLR Version: 1.98.0 Command: /Library/Frameworks/R.framework/Resources/bin/R CMD build --keep-empty-dirs --no-resave-data SBMLR StartedAt: 2024-03-03 18:09:10 -0500 (Sun, 03 Mar 2024) EndedAt: 2024-03-03 18:09:26 -0500 (Sun, 03 Mar 2024) EllapsedTime: 15.9 seconds RetCode: 0 Status: OK PackageFile: SBMLR_1.98.0.tar.gz PackageFileSize: 274.7 KiB