Package: SBMLR Version: 1.98.0 Command: /home/biocbuild/R/R-4.3.1/bin/R CMD INSTALL SBMLR StartedAt: 2023-11-01 20:03:52 -0000 (Wed, 01 Nov 2023) EndedAt: 2023-11-01 20:04:13 -0000 (Wed, 01 Nov 2023) EllapsedTime: 20.8 seconds RetCode: 0 Status: OK