Package: SBMLR Version: 1.98.0 Command: /home/biocbuild/R/R-4.3.1/bin/R CMD build --keep-empty-dirs --no-resave-data SBMLR StartedAt: 2023-11-02 05:40:35 -0000 (Thu, 02 Nov 2023) EndedAt: 2023-11-02 05:40:47 -0000 (Thu, 02 Nov 2023) EllapsedTime: 12.0 seconds RetCode: 0 Status: OK PackageFile: SBMLR_1.98.0.tar.gz PackageFileSize: 268.4 KiB