Package: SBGNview Version: 1.16.0 Command: /Library/Frameworks/R.framework/Resources/bin/R CMD INSTALL SBGNview StartedAt: 2024-04-15 16:23:50 -0400 (Mon, 15 Apr 2024) EndedAt: 2024-04-15 16:25:12 -0400 (Mon, 15 Apr 2024) EllapsedTime: 81.3 seconds RetCode: 0 Status: OK