Package: SARC Version: 1.0.0 Command: chmod a+r SARC -R && F:\biocbuild\bbs-3.18-bioc\R\bin\R.exe CMD build --keep-empty-dirs --no-resave-data SARC StartedAt: 2024-04-15 20:52:20 -0400 (Mon, 15 Apr 2024) EndedAt: 2024-04-15 20:54:32 -0400 (Mon, 15 Apr 2024) EllapsedTime: 131.8 seconds RetCode: 0 Status: OK PackageFile: SARC_1.0.0.tar.gz PackageFileSize: 3.426 MiB