Package: SARC Version: 1.0.0 Command: /Library/Frameworks/R.framework/Resources/bin/R CMD INSTALL SARC StartedAt: 2024-04-15 16:16:11 -0400 (Mon, 15 Apr 2024) EndedAt: 2024-04-15 16:17:40 -0400 (Mon, 15 Apr 2024) EllapsedTime: 88.7 seconds RetCode: 0 Status: OK