Package: SARC Version: 1.0.0 Command: /home/biocbuild/R/R-4.3.1/bin/R CMD INSTALL SARC StartedAt: 2023-11-01 20:49:00 -0000 (Wed, 01 Nov 2023) EndedAt: 2023-11-01 20:49:58 -0000 (Wed, 01 Nov 2023) EllapsedTime: 57.8 seconds RetCode: 0 Status: OK