Package: SARC Version: 1.0.0 Command: /home/biocbuild/R/R-4.3.1/bin/R CMD build --keep-empty-dirs --no-resave-data SARC StartedAt: 2023-11-02 05:39:57 -0000 (Thu, 02 Nov 2023) EndedAt: 2023-11-02 05:42:41 -0000 (Thu, 02 Nov 2023) EllapsedTime: 164.2 seconds RetCode: 0 Status: OK PackageFile: SARC_1.0.0.tar.gz PackageFileSize: 3.557 MiB