Package: SANTA Version: 2.38.0 Command: F:\biocbuild\bbs-3.18-bioc\R\bin\R.exe CMD check --no-multiarch --install=check:SANTA.install-out.txt --library=F:\biocbuild\bbs-3.18-bioc\R\library --no-vignettes --timings SANTA_2.38.0.tar.gz StartedAt: 2024-04-06 04:54:53 -0400 (Sat, 06 Apr 2024) EndedAt: 2024-04-06 04:56:05 -0400 (Sat, 06 Apr 2024) EllapsedTime: 72.2 seconds RetCode: 0 Status: OK CheckDir: SANTA.Rcheck Warnings: 0