Package: SANTA Version: 2.38.0 Command: /Library/Frameworks/R.framework/Resources/bin/R CMD build --keep-empty-dirs --no-resave-data SANTA StartedAt: 2024-03-03 18:08:46 -0500 (Sun, 03 Mar 2024) EndedAt: 2024-03-03 18:09:00 -0500 (Sun, 03 Mar 2024) EllapsedTime: 13.5 seconds RetCode: 0 Status: OK PackageFile: SANTA_2.38.0.tar.gz PackageFileSize: 4.372 MiB