Package: SANTA Version: 2.38.0 Command: /home/biocbuild/R/R-4.3.1/bin/R CMD build --keep-empty-dirs --no-resave-data SANTA StartedAt: 2023-11-02 05:39:46 -0000 (Thu, 02 Nov 2023) EndedAt: 2023-11-02 05:39:57 -0000 (Thu, 02 Nov 2023) EllapsedTime: 11.0 seconds RetCode: 0 Status: OK PackageFile: SANTA_2.38.0.tar.gz PackageFileSize: 4.373 MiB